BEGIN:VCALENDAR
PRODID:-//eluceo/ical//2.0/EN
VERSION:2.0
CALSCALE:GREGORIAN
BEGIN:VEVENT
UID:9a2b2e317fbbfd0e751220de704c706e
DTSTAMP:20260419T132959Z
SUMMARY:Rótarýfundur
DESCRIPTION:
URL:https://hafnarfjordur.rotary1360.is/is/agenda/show/3664
DTSTART;TZID=Iceland:20220317T121500
DTEND;TZID=Iceland:20220317T133000
LOCATION:Kaplakriki\nv/ Flatahraun\n220 Hafnarfjörður\n
CATEGORIES:Rotary
END:VEVENT
BEGIN:VTIMEZONE
TZID:Iceland
BEGIN:STANDARD
DTSTART:20220317T121500
TZNAME:GMT
TZOFFSETTO:+0000
TZOFFSETFROM:+0000
END:STANDARD
END:VTIMEZONE
END:VCALENDAR
